BEGIN:VCALENDAR
VERSION:2.0
PRODID:-//PYVOBJECT//NONSGML Version 1//EN
BEGIN:VEVENT
UID:26434:4450
DTSTART:20161215T000000
DTEND:20170630T000000
DESCRIPTION:
DTSTAMP:20260419T205021Z
SUMMARY:Neue Homepage: www.notarlenz.at
END:VEVENT
END:VCALENDAR
